BEGIN:VCALENDAR
VERSION:2.0
PRODID:-//Boreal - ECPv6.15.13//NONSGML v1.0//EN
CALSCALE:GREGORIAN
METHOD:PUBLISH
X-WR-CALNAME:Boreal
X-ORIGINAL-URL:https://boreal.golfly.ca
X-WR-CALDESC:Events for Boreal
REFRESH-INTERVAL;VALUE=DURATION:PT1H
X-Robots-Tag:noindex
X-PUBLISHED-TTL:PT1H
BEGIN:VTIMEZONE
TZID:UTC
BEGIN:STANDARD
TZOFFSETFROM:+0000
TZOFFSETTO:+0000
TZNAME:UTC
DTSTART:20190101T000000
END:STANDARD
END:VTIMEZONE
BEGIN:VEVENT
DTSTART;VALUE=DATE:20200619
DTEND;VALUE=DATE:20200622
DTSTAMP:20260421T083931
CREATED:20191226T201609Z
LAST-MODIFIED:20191226T201609Z
UID:1511-1592524800-1592783999@boreal.golfly.ca
SUMMARY:Men's Invitational
DESCRIPTION:EVENT SUMMARYThe 2020 Men’s Invitational is hosted from June 19-21\, 2020. \nPrice: $110*\nCall 705-555-1212 to register\n*Includes Lunch & Supper Both Days \n 
URL:https://boreal.golfly.ca/event_calendar/mens-invitational/
LOCATION:Boreal Golf Club\, 123 Woods Lane\, Somewhere\, ontario\, M4G 1P0\, Canada
CATEGORIES:Club Events,Mens
ATTACH;FMTTYPE=image/jpeg:https://boreal.golfly.ca/wp-content/uploads/sites/6/2019/12/Events_Image.jpg
END:VEVENT
END:VCALENDAR